BEGIN:VCALENDAR
VERSION:2.0
X-WR-TIMEZONE:Europe/Paris
PRODID:-//Audencia//NONSGML v1.0//EN
CALSCALE:GREGORIAN
BEGIN:VEVENT
SUMMARY:CANCELLED! #DBA & #MBA_Community: cocktails & networking, Nantes
DTSTART:20211210T183000
DTEND:20211210T210000
UID:1083
DTSTAMP:20260425T210032
LOCATION:Audencia 8 route de la Jonelière 44000 Nantes
DESCRIPTION:We regret to infrom you that this event has been cancelled\n\n\n \n2021 is coming to a close and we are seizing this opportunity to hold a networking event for members of the #DBA and #MBA communities - current participants and alumni are invited to join.\n \n\n	Friday 10 December\n	From 18:30\n	At the cafeteria on the Atlantic campus\n\n \n\n
BEGIN:VALARM
ACTION:DISPLAY
TRIGGER:-PT60M
DESCRIPTION:CANCELLED! #DBA & #MBA_Community: cocktails & networking, Nantes
END:VALARM
END:VEVENT
END:VCALENDAR