BEGIN:VCALENDAR
VERSION:2.0
X-WR-TIMEZONE:Europe/Paris
PRODID:-//Audencia//NONSGML v1.0//EN
CALSCALE:GREGORIAN
BEGIN:VEVENT
SUMMARY:Webinar - Transformez votre investissement en œuvre d’art
DTSTART:20211104T121500
DTEND:20211104T124500
UID:1082
DTSTAMP:20260425T210149
LOCATION:
DESCRIPTION:Webinaire exclusif proposé par MUSY\nle 4 novembre à 12h15 :\n\n \n\n"Transformez votre investissement en œuvre d’art"\n \n\n? Au programme des 20 minutes ensemble : \n➡️ Introduction au marché de l’art, sa dynamique, ses risques et ses potentielles performances, au-delà de la beauté d’une œuvre ⁠\n➡️ Nicolas - client MUSY : d'investisseur à collectionneur⁠, il explique sa démarche.\n\n \n\nInscrivez-vous ?? https://bit.ly/musy-invest-art\n\n\n(Une version enregistrée sera disponible pour les personnes inscrites uniquement !)\n \n\n
BEGIN:VALARM
ACTION:DISPLAY
TRIGGER:-PT60M
DESCRIPTION:Webinar - Transformez votre investissement en œuvre d’art
END:VALARM
END:VEVENT
END:VCALENDAR