BEGIN:VCALENDAR
VERSION:2.0
X-WR-TIMEZONE:Europe/Paris
PRODID:-//Audencia//NONSGML v1.0//EN
CALSCALE:GREGORIAN
BEGIN:VEVENT
SUMMARY:CCI France Chine Webinar: European Business in China: Position Paper 2021/2022
DTSTART:20211101T113000
DTEND:20211101T130000
UID:1081
DTSTAMP:20260425T210146
LOCATION:
DESCRIPTION:Date: Monday, November 1st\nTime: 18:30 - 20:00 in China / 11:30 - 13:00 in France\nFees: Free for CCI FRANCE CHINE Members & Audencia Alumni\nLocation: Webinar\nLanguage: English\nRegistration: Scan the following QR code\n
BEGIN:VALARM
ACTION:DISPLAY
TRIGGER:-PT60M
DESCRIPTION:CCI France Chine Webinar: European Business in China: Position Paper 2021/2022
END:VALARM
END:VEVENT
END:VCALENDAR