BEGIN:VCALENDAR
VERSION:2.0
X-WR-TIMEZONE:Europe/Paris
PRODID:-//Audencia//NONSGML v1.0//EN
CALSCALE:GREGORIAN
BEGIN:VEVENT
SUMMARY:CCI France Chine Webinar: IP/IT in China: legal updates, recent cases, good practices
DTSTART:20211020T123000
DTEND:20211020T140000
UID:1080
DTSTAMP:20260425T211127
LOCATION:
DESCRIPTION:Date: Wednesday, October 20th\nTime: 18:30 - 20:00 in China / 12:30 - 14:00 in France\nFees: Free for CCI FRANCE CHINE Members & Audencia Alumni\nLocation: Webinar\nLanguage: English\nRegistration: Scan the following QR code\n
BEGIN:VALARM
ACTION:DISPLAY
TRIGGER:-PT60M
DESCRIPTION:CCI France Chine Webinar: IP/IT in China: legal updates, recent cases, good practices
END:VALARM
END:VEVENT
END:VCALENDAR