BEGIN:VCALENDAR
VERSION:2.0
X-WR-TIMEZONE:Europe/Paris
PRODID:-//Audencia//NONSGML v1.0//EN
CALSCALE:GREGORIAN
BEGIN:VEVENT
SUMMARY:Annulé - Career Center Webinar : Alimentation et Emotions : un levier à explorer pour votre équilibre managériale
DTSTART:20211021T183000
DTEND:20260425T210027
UID:1079
DTSTAMP:20260425T210027
LOCATION:
DESCRIPTION:L'événement est annulé\n\nS’alimenter est au départ un besoin primaire, qui assure notre survie.\nMais nous ne nous alimentons plus uniquement par nécessité. Le concept de plaisir a infusé le sujet de l’alimentation au point de brouiller les messages.\nComment clarifier notre rapport à l’alimentation ? Ce webinar va vous présenter les liens entre les émotions et la prise de nourriture pour vous permettre d’identifier votre rapport à l’alimentation et réinstaurer de l’équilibre au quotidien pour devenir un manager puissant.\n \nAnimé par Adrienne LE BOMIN BEYSSAC\nCoach des transitions professionnelles, Adrienne a accompagné des centaines de personnes à dessiner leur projet, à asseoir leur positionnement en entreprise.\nCe qui lui plait ? Faire émerger les forces d’une trajectoire, les atouts d’un parcours pour permettre à ceux qui suivent ce cheminement de trouver leur place.\n \nCette session se tiendra via Microsoft Teams en vous connectant à ce lien Cliquez ici pour participer à la réunion\n 
BEGIN:VALARM
ACTION:DISPLAY
TRIGGER:-PT60M
DESCRIPTION:Annulé - Career Center Webinar : Alimentation et Emotions : un levier à explorer pour votre équilibre managériale
END:VALARM
END:VEVENT
END:VCALENDAR