BEGIN:VCALENDAR
VERSION:2.0
X-WR-TIMEZONE:Europe/Paris
PRODID:-//Audencia//NONSGML v1.0//EN
CALSCALE:GREGORIAN
BEGIN:VEVENT
SUMMARY:Atelier - Fresque du Climat
DTSTART:20220125T183000
DTEND:20220125T223000
UID:1078
DTSTAMP:20260425T210326
LOCATION:Audencia Campus Paris 95 Rue Falguière 75015 Paris
DESCRIPTION:Le Club Marketing & Digital et le Club Transitions vous invitent à un atelier de la Fresque du Climat le mardi 25 janvier à 18h30 sur le campus parisien.\n\nCette fresque dure entre 2h30 et 3h.\n\nPour vous inscrire, envoyez un message à nushad.merchant@audencia.com\n\n\n\n \n\nVeuillez noter que le Pass Sanitaire est obligatoire pour accéder à l'événement.\nChaque participant devra présenter son Pass Sanitaire qui consiste en la présentation, numérique ou papier, d'une preuve sanitaire dont voici la liste :\n\n	La vaccination, à la condition de disposer d'un schéma vaccinal complet (les deux doses avec un délai de 7 jours après la deuxième injection)\n	La preuve d'un test PCR ou antigénique négatif de moins de 48h\n	Le résultat d'un test PCR positif (attestant du rétablissement du Covid-19) datant d'au moins 11 jours et de moins de 6 mois \n\n
BEGIN:VALARM
ACTION:DISPLAY
TRIGGER:-PT60M
DESCRIPTION:Atelier - Fresque du Climat
END:VALARM
END:VEVENT
END:VCALENDAR