BEGIN:VCALENDAR
VERSION:2.0
X-WR-TIMEZONE:Europe/Paris
PRODID:-//Audencia//NONSGML v1.0//EN
CALSCALE:GREGORIAN
BEGIN:VEVENT
SUMMARY:Club Foot - Soirée Match PSG & Manchester City
DTSTART:20211124T193000
DTEND:20211124T230000
UID:1077
DTSTAMP:20260425T210053
LOCATION:Audencia Campus Paris,  95 Rue Falguière,  75015 Paris
DESCRIPTION:Le Club Foot et la promo 2021-2022 du MS MOS vous invitent à regarder le match de ligue des champions entre Manchester City et le PSG à partir de 19h30 le mercredi 24 novembre sur le campus parisien.\n\nAu programme :\n?? discussions sur le sport (et pas que!)\n?? partage d'un repas et diffusion d'un match qui on l'espère sera épique !\n\nTous les alumni qui souhaitent profiter du match sont conviés et même ceux qui souhaitent venir échanger avec les membres du Club Foot et les étudiants du MOS.\n\n \n\n\n⚽️ Inscriptions obligatoires ⚽️\n \n\n\n \n\nVeuillez noter que le Pass Sanitaire est obligatoire pour accéder à l'événement.\nChaque participant devra présenter son Pass Sanitaire qui consiste en la présentation, numérique ou papier, d'une preuve sanitaire dont voici la liste :\n\n\n	La vaccination, à la condition de disposer d'un schéma vaccinal complet (les deux doses avec un délai de 7 jours après la deuxième injection)\n	La preuve d'un test PCR ou antigénique négatif de moins de 72h\n	Le résultat d'un test PCR positif (attestant du rétablissement du Covid-19) datant d'au moins 11 jours et de moins de 6 mois \n\n
BEGIN:VALARM
ACTION:DISPLAY
TRIGGER:-PT60M
DESCRIPTION:Club Foot - Soirée Match PSG & Manchester City
END:VALARM
END:VEVENT
END:VCALENDAR