BEGIN:VCALENDAR
VERSION:2.0
X-WR-TIMEZONE:Europe/Paris
PRODID:-//Audencia//NONSGML v1.0//EN
CALSCALE:GREGORIAN
BEGIN:VEVENT
SUMMARY:Club Activités Culturelles - Visite guidée des galeries et des passages au coeur de Paris
DTSTART:20211204T110000
DTEND:20211204T123000
UID:1076
DTSTAMP:20260425T210148
LOCATION:Place Colette,  Galerie du Théâtre Français,  75001 Paris
DESCRIPTION:Le Club Activités Culturelles organise une visite guidée des galeries et des passages au coeur de Paris le samedi 4 décembre à 11h.\n\nPlaces limitées, inscriptions obligatoires !\n \n\nQuestions : nushad.merchant@audencia.com
BEGIN:VALARM
ACTION:DISPLAY
TRIGGER:-PT60M
DESCRIPTION:Club Activités Culturelles - Visite guidée des galeries et des passages au coeur de Paris
END:VALARM
END:VEVENT
END:VCALENDAR