BEGIN:VCALENDAR
VERSION:2.0
X-WR-TIMEZONE:Europe/Paris
PRODID:-//Audencia//NONSGML v1.0//EN
CALSCALE:GREGORIAN
BEGIN:VEVENT
SUMMARY:Webinar: E-Commerce in Luxury, the Today and the Tomorrow
DTSTART:20211021T130000
DTEND:20211021T140000
UID:1073
DTSTAMP:20260425T210006
LOCATION:
DESCRIPTION:Dear Alumni,\n\nWith great pleasure, we invited three alumni who are based in Paris, France, to share their experience and insights on E-Commerce.\nWe encourage you to send your questions beforehand to tcliu@audencia.com. Otherwise, there is a Q&A section at the end of the webinar where you can raise your question(s) freely.\n\nInformation\nDate: Thursday, October 21st, 2021\nTime: 19:00-20:00 in China / 13:00-14:00 in France \nLanguage: English\nVenue: Online (Joining link: https://us02web.zoom.us/j/86349234364)\n \nThis sharing session is embedded into an off-line event in Shanghai, China. If you are available to participate on-site, please refer to the dedicated page for more details and registration. \n\nSpeakers\n\n\nFlorine ZHAO GE 2010\n \nDigital Project Manager @ Moët Hennessy\n \nSenior Digital strategy consultant with 11 years of experience in e-business, Florine has helped prestigious brands such as LV, Dior, and Hermès to develop their global online strategy and particularly the Chinese market, thanks to her bicultural background.\n\n\nFabien MACARIE GE 1993\n \nDigital & Agile Program Manager @ Hermès\n \nDigital Leader and Agile acumen (Design Thinking, Scrum, SAFe, Kanban). Currently Program Director and Senior Management Consultant at IBM. 10-year International working experience in digital agencies. Provides strategic consultancy and agile project management. Also 12-year people management in retail online and offline (Fnac).\n\n\nViviana LOZADA GE 2018\n \nDigital Manager @ Isabel Marant\n \nPrevious E-Business professional at Saint Laurent. Years of work experience in the management of web projects (Agile methodology), Organic and Paid Media campaigns, content management, data analyse, and emailing. \nHost \n\n\nYeying JIANG GE 2009\n \nPartner @ Fullsun Financial Consulting\n\nStartup Finance VP, Regional Finance Director with more than 10 years' experience across different industries: a French CAC40 FMCG company, a Euronext listed leading service group, an early stage of Chinese cross-border FMCG e-commerce firm, and previously in financial audit from a Big 4 accounting firm. 
BEGIN:VALARM
ACTION:DISPLAY
TRIGGER:-PT60M
DESCRIPTION:Webinar: E-Commerce in Luxury, the Today and the Tomorrow
END:VALARM
END:VEVENT
END:VCALENDAR