BEGIN:VCALENDAR
VERSION:2.0
X-WR-TIMEZONE:Europe/Paris
PRODID:-//Audencia//NONSGML v1.0//EN
CALSCALE:GREGORIAN
BEGIN:VEVENT
SUMMARY:Alumni Dinner in Shenzhen
DTSTART:20211023T130000
DTEND:20211023T153000
UID:1072
DTSTAMP:20260425T210002
LOCATION:7F, Sannuo Zhihui Mansion, No. 3388 Binhai Avenue, Nanshan District, Shenzhen, China
DESCRIPTION:\n \n\nTo register, please scan the QR code. 
BEGIN:VALARM
ACTION:DISPLAY
TRIGGER:-PT60M
DESCRIPTION:Alumni Dinner in Shenzhen
END:VALARM
END:VEVENT
END:VCALENDAR