BEGIN:VCALENDAR
VERSION:2.0
X-WR-TIMEZONE:Europe/Paris
PRODID:-//Audencia//NONSGML v1.0//EN
CALSCALE:GREGORIAN
BEGIN:VEVENT
SUMMARY:Afterwork Meet & Learn #4 autour du vin à Genève, Suisse
DTSTART:20211105T230000
DTEND:20211105T235900
UID:1071
DTSTAMP:20260425T205956
LOCATION:Genève
DESCRIPTION:Evénement terminé!
BEGIN:VALARM
ACTION:DISPLAY
TRIGGER:-PT60M
DESCRIPTION:Afterwork Meet & Learn #4 autour du vin à Genève, Suisse
END:VALARM
END:VEVENT
END:VCALENDAR