BEGIN:VCALENDAR
VERSION:2.0
X-WR-TIMEZONE:Europe/Paris
PRODID:-//Audencia//NONSGML v1.0//EN
CALSCALE:GREGORIAN
BEGIN:VEVENT
SUMMARY:Conférence - Construire et protéger son e-réputation: avantage clé des individus, marques, et organisations
DTSTART:20211116T193000
DTEND:20211116T220000
UID:1070
DTSTAMP:20260425T210120
LOCATION:Audencia Campus Paris 95 rue Falguière 75015 Paris
DESCRIPTION:Construire et protéger son e-réputation : \navantage clé des individus, marques, et organisations\n \n\nDénigrement, bashing, fake news…: internet et les réseaux sociaux permettent aujourd’hui de faire et défaire la réputation d’une entreprise, d’une marque ou d’une personne, et il peut paraître difficile de maîtriser et de protéger sa e-réputation. \n\nL’e-réputation est à la fois essentielle et extrêmement fragile. Vitrine des compétences, ressources et appartenance à des réseaux, l’e-réputation est un avantage concurrentiel qui se bâtit et se manage, suscitant parfois des convoitises/comportements déloyaux.  \n\nDévelopper et manager son e-réputation de façon proactif et réactif est un savoir-faire incontournable dans notre monde numérique. \n \n\n\n	\n	Bâtir sa réputation numérique : quelles stratégies pour quels résultats ?  \n	\n	\n	Quelles sont les atteintes à la e-réputation de l’entreprise, de ses produits ou de ses dirigeants et collaborateurs ? \n	\n	\n	Quelles réactions adopter : action en communication ? réaction sur les réseaux sociaux ? une réaction est-elle nécessairement opportune ?  \n	\n	\n	Remédier aux atteintes à l’e-réputation par des la voie juridique et des actions en justice ?  \n	\n\n\n \n\nNous vous invitons, le mardi 16 novembre à 19h30 sur le campus parisien, à une table ronde qui vous permettra de détecter les trésors cachés de votre entreprise en présence de :\n\n\n\nJulien Pierre, Responsable Recherche de département, Département Communication & Culture, Audencia SciencesCom. \nEn tant que spécialiste du numérique, il interroge conjointement les usages (appropriation, privacy, bricolage), les stratégies des firmes (business model, innovation), les modes de régulation et la nature technique des dispositifs numériques.\n\n\n\nFlorent Desarnauts, Avocat au barreau de Paris. \nIntervenant tant en conseil qu’en contentieux, il accompagne des sociétés françaises et étrangères ainsi que des particuliers dans le domaine de la communication (Internet, TV, presse) et de la propriété intellectuelle (droit d’auteur, marque). Il conseille en particulier des hébergeurs, éditeurs et des personnes physiques sur les questions liées à l’E-réputation et aux contenus disponibles sur internet.\n\nAnimée par :\n\n \nFanny Cardinal, diplômée SciencesCom 2018 et Head of Community chez Maddyness\n\n\n\n \nInscription gratuite mais obligatoire \nConnectez-vous à votre compte pour vous inscrire\n\nQuestion ? : nushad.merchant@audencia.com\n \n\n\n\n \n\nVeuillez noter que le Pass Sanitaire est obligatoire pour accéder à l'événement. Chaque participant devra présenter son Pass Sanitaire qui consiste en la présentation, numérique ou papier, d'une preuve sanitaire dont voici la liste :\n\n\n	La vaccination, à la condition de disposer d'un schéma vaccinal complet (les deux doses avec un délai de 7 jours après la deuxième injection)\n	La preuve d'un test PCR ou antigénique négatif de moins de 72h\n	Le résultat d'un test PCR positif (attestant du rétablissement du Covid-19) datant d'au moins 11 jours et de moins de 6 mois\n\n\n\n 
BEGIN:VALARM
ACTION:DISPLAY
TRIGGER:-PT60M
DESCRIPTION:Conférence - Construire et protéger son e-réputation: avantage clé des individus, marques, et organisations
END:VALARM
END:VEVENT
END:VCALENDAR