BEGIN:VCALENDAR
VERSION:2.0
X-WR-TIMEZONE:Europe/Paris
PRODID:-//Audencia//NONSGML v1.0//EN
CALSCALE:GREGORIAN
BEGIN:VEVENT
SUMMARY:Afterwork inter-clubs Paris - Venez comme vous êtes
DTSTART:20171109T193000
DTEND:20171109T235900
UID:107
DTSTAMP:20260425T210027
LOCATION:Café des initiés 3 Place des Ecus 75001 Paris Métro : Accessible par les lignes 1, 4, 7, 14 et par le RER A, B et D
DESCRIPTION:\nAfterwork Paris - Venez comme vous êtes\n\n\nEvénement Afterwork "Venez comme vous êtes "\n\nChèr(e)s diplômé(e)s et étudiant(e)s,\n\nLes communautés Audencia "Audencia pour Elles", "Culture et Management", "Audencia Abroad", "Finance" et "RH & Management" vous invitent à partager un moment de convivialité et partager votre expérience avec d'autres étudiants et diplômés. \n\nVous pourrez, autour d'un verre, échanger avec les ambassadeurs, découvrir les clubs que vous ne connaissez pas encore et participer à la richesse de votre réseau !\n \nNous vous proposons de tous nous retrouver le 9 Novembre 2017 à partir de 19h30 au Café des Initiés.\nCafé des initiés\n3 Place des Ecus\n75001 Paris\nMétro : Accessible par les lignes 1, 4, 7, 14 et par le RER A, B et D\n\nEn espérant vous y voir nombreux !
BEGIN:VALARM
ACTION:DISPLAY
TRIGGER:-PT60M
DESCRIPTION:Afterwork inter-clubs Paris - Venez comme vous êtes
END:VALARM
END:VEVENT
END:VCALENDAR