BEGIN:VCALENDAR
VERSION:2.0
X-WR-TIMEZONE:Europe/Paris
PRODID:-//Audencia//NONSGML v1.0//EN
CALSCALE:GREGORIAN
BEGIN:VEVENT
SUMMARY:Webinar - Les bonnes pratiques SEO pour votre site internet ?
DTSTART:20211015T110000
DTEND:20211015T120000
UID:1069
DTSTAMP:20260426T001438
LOCATION:
DESCRIPTION:? Rendez-vous le 15 Octobre à 11h\n\nCe mois-ci, nous aurons le plaisir de recevoir Damien, Fondateur de La Boite à Donuts, Agence digitale et SEO.\n \n\n? Au programme :\n\nCe mois-ci, nous aurons le plaisir de recevoir Damien Gendrin, Fondateur de l’agence La Boite à Donuts.\n\nDans ce webinar co-construit avec Julien Tourme, fondateur de Monsieur Lucien, nous échangerons sur les bonnes pratiques à mettre en place pour développer la visibilité de votre site internet via le référencement naturel, aka : SEO.\n\nUne fois construit, votre site internet se doit d’être visible pour que vous puissiez atteindre vos objectifs. C’est à ce moment là que le SEO prend tout son intérêt. Régulièrement cité comme le premier canal d’acquisition avec une moyenne de 68% du trafic provenant du référencement naturel, c’est un élément non négligeable à prendre en compte en amont de votre projet de construction ou de refonte de site internet.\n\nPar la suite, il se doit d’être entretenu pour garder un avantage indéniable vis à vis de vos concurrents.\n\nAu programme : un contenu dynamique listant les bonnes pratiques conrètes pour améliorer le référencement naturel de votre site internet et intégrant les dernières actualités du SEO.\n\n \n\n\n\nInscriptions ?? https://bit.ly/2YhsQE2​
BEGIN:VALARM
ACTION:DISPLAY
TRIGGER:-PT60M
DESCRIPTION:Webinar - Les bonnes pratiques SEO pour votre site internet ?
END:VALARM
END:VEVENT
END:VCALENDAR