BEGIN:VCALENDAR
VERSION:2.0
X-WR-TIMEZONE:Europe/Paris
PRODID:-//Audencia//NONSGML v1.0//EN
CALSCALE:GREGORIAN
BEGIN:VEVENT
SUMMARY:Club Culture & Management - L'éco-gestion culturelle
DTSTART:20211013T183000
DTEND:20211013T210000
UID:1067
DTSTAMP:20260425T210144
LOCATION:Fondation Pernod Ricard 1 Cours Paul Ricard 75008 Paris
DESCRIPTION:Notre cycle sur l'engagement continue mercredi 13 octobre avec un débat sur la transition écologique au sein du secteur culturel.\n\nÀ l’heure où l’urgence climatique se fait de plus en plus prégnante et questionne nos modes de vie et nos pratiques, la culture, au même titre que les autres secteurs de l’économie, est à la recherche de solutions pour mieux maîtriser son impact environnemental.\n\nComment le monde culturel peut-il se mettre en ordre de marche pour limiter ses émissions de CO2 ? Devant l’ampleur de la tâche, quelles bonnes pratiques retenir, quels outils disponibles pour embrasser ce challenge aux multiples implications ?\n\nVenez en débattre avec :\n\n\n	\n	Agathe Chamboredon, Directrice financière du Théâtre de la Monnaie à Bruxelles\n	\n	\n	Samuel Valensi, auteur et metteur en scène, responsable culturel du "Shift Project"\n	\n\n\nRéservez votre place dès maintenant !\n\n \n\nEXCLUSIF : Visite guidée à 18h30 en amont du débat\nL'exposition collective Bonaventure (trafiquer les mondes) - 22e Prix Fondation Pernod Ricard accueille une génération d’artistes aux pratiques diverses et plurielles. Découvrez leur travail en confirmant votre présence par mail à ines.huergo@fondation-pernod-ricard.com\n\n \n\nMODALITÉS D'ACCUEIL EN PRÉSENTIEL :\n\n- les débats commencent à 19h, l'accueil se fait à partir de 18h30\n- si vous bénéficiez d'un tarif spécial (tarif chômeur ou tarif étudiant à 15€), vous devrez nous présenter un justificatif de moins de 3 mois\n- la présentation d'un pass sanitaire valide ainsi que le port du masque durant le débat vous seront demandés\n\n \n\nAu plaisir de vous retrouver,\nL'équipe du Club Culture & Management
BEGIN:VALARM
ACTION:DISPLAY
TRIGGER:-PT60M
DESCRIPTION:Club Culture & Management - L'éco-gestion culturelle
END:VALARM
END:VEVENT
END:VCALENDAR