BEGIN:VCALENDAR
VERSION:2.0
X-WR-TIMEZONE:Europe/Paris
PRODID:-//Audencia//NONSGML v1.0//EN
CALSCALE:GREGORIAN
BEGIN:VEVENT
SUMMARY:Forum virtuel généraliste "1er emploi" / Virtual forum "1st job"
DTSTART:20211013T090000
DTEND:20211014T180000
UID:1066
DTSTAMP:20260425T210206
LOCATION:
DESCRIPTION:\n\n(English below)\n\nChères diplômées, chers diplômés,\n\nLa plateforme du Forum Généraliste, en partenariat avec Seekube, est ouverte !\nPlus de 70 entreprises (grands groupes, PME, start-up) sont inscrites au forum pour vous rencontrer les 13 & 14 octobre.\n\nVous êtes actuellement à la recherche de votre 1er emploi ?\nCe forum est pour vous l’opportunité d’échanger avec les recruteurs & opérationnels de votre choix et à distance !\n\nRencontrez en quelques clics les recruteurs de : Accenture, Amazon, Auchan, BearingPoint, BNP Paribas, Danone, Doctolib, Fleury Michon, Galeries Lafayette, KPMG, L'Oréal, Ubisoft, Unilever… et bien d'autres !\n\nEn plus des entretiens individuels, vous pourrez participer à des conférences lives organisées par des entreprises et sur des thématiques différentes.\n \nComment se déroule le forum virtuel ?\n\n\n	Inscrivez-vous ici dès à présent et jusqu’au 12 octobre !\n\nSi un mot de passe vous est demandé en vous inscrivant, renseignez : recrutementaudenciaoctobre\nMerci de ne pas communiquer ce mot de passe.\n\n\n	Découvrez les entreprises participantes ainsi que leurs offres\n\n\n\n	Pour chaque offre qui correspond à votre profil, vous pourrez candidater en positionnant un RDV dans l’agenda du recruteur\n\nRappel : les inscriptions aux entretiens se font sur la base du 1ER inscrit/1ER servi. \nConseil : élargissez vos critères de recherche pour accéder à plus d’opportunités.\nA noter : de nouvelles offres et de nouveaux créneaux pourront être ajoutés au fur et à mesure par les recruteurs. Connectez-vous régulièrement sur la plateforme !\n \n \n\n	À partir du 5 octobre, les recruteurs auront accès à votre profil et pourront traiter vos demandes d’entretiens.\n\nSachez que les recruteurs pourront refuser vos candidatures si votre profil ne correspond pas à leurs attentes\n\n\n	Du 13 au 14 octobre, place aux entretiens ! Vous rencontrez les recruteurs par téléphone ou par visio.\n\nSoyez professionnels et acceptez uniquement les entretiens que vous pourrez honorer\n\n\n	Après le forum, pendant 10 jours, les recruteurs pourront accéder à la CVthèque de tous les candidats inscrits au forum. Cela leur permettra, en fonction de leurs besoins, de contacter d'autres profils en plus de ceux rencontrés pendant le forum.\n\n\nConsultez la vidéo de présentation.\n \nDear alumni,\n\nWe are pleased to announce you that registrations are now open for the Audencia Career Fair ! You can now upload your resume online through the platform of our partner Seekube.\n\nAre you currently looking for your first job? \n\nAccenture, Amazon, Auchan, BearingPoint, BNP Paribas, Danone, Doctolib, Fleury Michon, Galeries Lafayette, KPMG, L'Oréal, Ubisoft, Unilever … and many more can’t wait to meet you online from October 13 to 14!\n\nIn addition to individual interviews, you will be able to participate in live conferences organized by companies.\n\nHow to participate in the virtual forum ? \n\n\n	Register now until october,12 ! Discover all the jobs/internship offers and apply online whenever you find an offer matching your expectations.\n\nRecommendation : broaden your search criteria to reach more opportunities!\nIf you are asked for a password when you register, please inform : recrutementaudenciaoctobre\nThanks for not sharing this password with students from other schools.\n\n\n	Explore participating companies on the event and their jobs offers. \n\nPlease note registration for interviews is on 1st come, 1st served bases.\nNew jobs and new time slots can be added daily by recruiters. Make sure to look at the platform regularly!\n\n\n	From october, 5, recruiters will have access to your profile and will be able to process your applications. \n\nBeware that recruiters may refuse your application if your profile does not meet their expectations.\n\n\n	From October, 13 to 14 you will meet the recruiters by phone or by video.\n\nPlease make sure to be professional and accept online interviews only if you can attend it\n\n\n	After the career fair, recruiters will have access to the CV pool of all candidates during 10 days. Depending on their need, they may contact you even if the fair is over.\n\nTo get familiar with the platform, you can have a look at this video
BEGIN:VALARM
ACTION:DISPLAY
TRIGGER:-PT60M
DESCRIPTION:Forum virtuel généraliste "1er emploi" / Virtual forum "1st job"
END:VALARM
END:VEVENT
END:VCALENDAR