BEGIN:VCALENDAR
VERSION:2.0
X-WR-TIMEZONE:Europe/Paris
PRODID:-//Audencia//NONSGML v1.0//EN
CALSCALE:GREGORIAN
BEGIN:VEVENT
SUMMARY:Club Luxe - Bucherer, à la découverte de l’horlogerie
DTSTART:20211117T193000
DTEND:20211117T223000
UID:1065
DTSTAMP:20260425T205839
LOCATION:Bucherer 12 Bd des Capucines 75009 Paris
DESCRIPTION: \n« Bucherer, à la découverte de l’horlogerie » \n\nCette expérience œno-horlogère se déroulera chez Bucherer Paris\n\n12 boulevard des Capucines, 75009 Paris\nle mercredi 17 novembre 2021 à 19h30\n \nLa maison suisse Bucherer, fondée en 1888, est depuis cette époque une institution. Audencia vous convie à un voyage immersif au cœur de l’horlogerie. L’adresse parisienne Bucherer vous ouvre ses portes, et servira d’écrin à cette expérience, à la croisée des chemins de l’horlogerie et de l’œnologie.\n \nLors de cette soirée :\n \n- Vous assisterez à une conférence sur les « Montres Mythiques », animée par le spécialiste Bucherer des montres vintages.\n \n- Vous participerez à un cocktail œnologique commenté par Sophie Roulé, diplômée Grande Ecole 2001 et fondatrice de Involuté Vins. Vous dégusterez des mets issus de producteurs et d’artisans d’exception, et découvrirez 3 cuvées qui seront mises en résonnance avec une pièce horlogère unique, qui sera présentée lors de ce cocktail.\n \n- Vous pourrez à votre guise networker et faire de nouvelles rencontres.\n \nLe programme de l’expérience œno horlogère :\n \n\n	19h30 : Accueil.\n	20h00 : Mot d’accueil par Audencia et Madame Nathalie Célia Koch-Chevalier, Directrice Générale de Bucherer Paris.\n	20h30 – 21h30 : Conférence « Montres Mythiques » et moment de questions/réponses.\n	21h30 – 22h30 : Cocktail œnologique commenté.\n	22h30 : Fin de la soirée\n\n\nAudencia vous convie à cette expérience nouvelle, mêlant horlogerie de luxe et œnologie, pensée pour en faire un moment d’exception, de détente, de convivialité et de découvertes culturelles et sensorielles.\n \nAttention, pour cette soirée exceptionnelle, le nombre de places est limité.\nQuestions ? : nushad.merchant@audencia.com\n\n\n\nDiplômée WSET, Sophie Roulé est en charge depuis 2013 de l’export de domaines viticoles familiaux, et distribue leurs vins dans le monde, des USA au Japon, en passant par Dubaï et l’Europe.\nSophie est également créatrice d’expériences œnologiques par les vins vivants. Elle a fondé Involuté Vins pour partager sa passion du vin, de la gastronomie et de l’art de recevoir, et proposer à ses clients une approche différente du vin, professionnelle et pour autant simple, toujours élégante, basée sur les sens et les émotions. \nAvec Involuté Vins, Sophie met les émotions nées du vin au service des messages et des valeurs de l’entreprise. Elle a fait du dialogue Vins, Art, Littérature, une spécialité.\nInvoluté Vins organise des évènements haut de gamme et sur mesure, cocktails, ateliers, team building, conférences œnologiques, pour les particuliers & les professionnels, amoureux de vins, en quête de balades sensorielles, de découvertes, de nouveautés.\nSophie Roulé est également rédactrice des articles "Vins" au sein de @Graines de Papilles, le média de la gastronomie végétale où elle apporte notamment son éclairage sur les vins vivants.\n \n \n\nVeuillez noter que le Pass Sanitaire est obligatoire pour accéder à l'événement. Chaque participant devra présenter son Pass Sanitaire qui consiste en la présentation, numérique ou papier, d'une preuve sanitaire dont voici la liste :\n\n\n	La vaccination, à la condition de disposer d'un schéma vaccinal complet (les deux doses avec un délai de 7 jours après la deuxième injection)\n	La preuve d'un test PCR ou antigénique négatif de moins de 72h\n	Le résultat d'un test PCR positif (attestant du rétablissement du Covid-19) datant d'au moins 11 jours et de moins de 6 mois\n\n\n\n 
BEGIN:VALARM
ACTION:DISPLAY
TRIGGER:-PT60M
DESCRIPTION:Club Luxe - Bucherer, à la découverte de l’horlogerie
END:VALARM
END:VEVENT
END:VCALENDAR