BEGIN:VCALENDAR
VERSION:2.0
X-WR-TIMEZONE:Europe/Paris
PRODID:-//Audencia//NONSGML v1.0//EN
CALSCALE:GREGORIAN
BEGIN:VEVENT
SUMMARY:Soirée Ingénieurs-Managers
DTSTART:20211123T194000
DTEND:20260425T210053
UID:1064
DTSTAMP:20260425T210053
LOCATION:COMET PLACE DES VICTOIRES 12, rue du Mail 75002 Paris
DESCRIPTION:\n\n- Soirée réservée aux ingénieurs-managers -\n\nChers diplômés ingénieurs-managers,\n \nChristophe Germain, Directeur général d'Audencia, et Nicolas Arnaud, Directeur des programmes, vous donnent rendez-vous à Paris,\n \nmardi 23 novembre\nà 19h40\n(Attention, décalage de 10 min sur demande du lieu - ce n'est plus 19h30 comme annoncé initialement)\n\n\n\nAu programme : \n• Accueil avec coupe de champagne\n• Echanges avec Christophe Germain et Nicolas Arnaud\n• ​Les enjeux écologiques planétaires : moment interactif avec débat.\n• ​Cocktail networking\n\nEchanges, actualités, sujets dédiés ingénieurs-managers… Nous vous avons préparé un événement sur-mesure !\n\n \n\n>> Gratuit sur inscription <<\n\nQuestions ? : lcaliez@audencia.com\n\n\nVeuillez noter que le Pass Sanitaire est obligatoire pour accéder à l'événement.\nChaque participant devra présenter son Pass Sanitaire qui consiste en la présentation, numérique ou papier, d'une preuve sanitaire dont voici la liste :\n- La vaccination, à la condition de disposer d'un schéma vaccinal complet (les deux doses avec un délai de 7 jours après la deuxième injection)\n- La preuve d'un test PCR ou antigénique négatif de moins de 72h\n- Le résultat d'un test PCR positif (attestant du rétablissement du Covid-19) datant d'au moins 11 jours et de moins de 6 mois \n\n\n 
BEGIN:VALARM
ACTION:DISPLAY
TRIGGER:-PT60M
DESCRIPTION:Soirée Ingénieurs-Managers
END:VALARM
END:VEVENT
END:VCALENDAR