BEGIN:VCALENDAR
VERSION:2.0
X-WR-TIMEZONE:Europe/Paris
PRODID:-//Audencia//NONSGML v1.0//EN
CALSCALE:GREGORIAN
BEGIN:VEVENT
SUMMARY:Envie de passer la vitesse supérieure sur Linkedin ? ?
DTSTART:20210917T110000
DTEND:20210917T120000
UID:1061
DTSTAMP:20260425T210447
LOCATION:
DESCRIPTION:? Rendez-vous le 17 Septembre à 11h\n\nCe mois-ci, nous aurons le plaisir de recevoir Antoine, Fondateur d’Exupéry, Organisme de formation en webmarketing.\n \n\n? Au programme :\n\nCe mois-ci, nous aurons le plaisir de recevoir Antoine Civel (IMM 2016), fondateur de l’organisme de formation webmarketing Exupery.\n\nDans ce webinar co-construit avec Julien Tourme (SCOM 2010), fondateur de Monsieur Lucien, nous échangerons sur les bonnes pratiques à mettre en place pour développer votre activité sur Linkedin via des actions de prospection et d’automatisation.\n\nLinkedin est un outil indispensable pour votre activité. Cependant, une fois votre profil optimisé, il existe de nombreuses actions pour vous aider à faire décoller votre activité. De nombreuses taches peuvent être automatisées pour vous permettre de gagner en efficacité.\n\nAu programme : un contenu dynamique, interactif ponctué de mises en situation concrètes pour illustrer les propos et vous aider à être plus efficace sur ce réseau social professionnel.\n \n\nInscriptions : https://bit.ly/3tRiPsU
BEGIN:VALARM
ACTION:DISPLAY
TRIGGER:-PT60M
DESCRIPTION:Envie de passer la vitesse supérieure sur Linkedin ? ?
END:VALARM
END:VEVENT
END:VCALENDAR