BEGIN:VCALENDAR
VERSION:2.0
X-WR-TIMEZONE:Europe/Paris
PRODID:-//Audencia//NONSGML v1.0//EN
CALSCALE:GREGORIAN
BEGIN:VEVENT
SUMMARY:Afterwork in Geneva, Switzerland
DTSTART:20210922T183000
DTEND:20210922T213000
UID:1060
DTSTAMP:20260425T210119
LOCATION:Le Bateau Quai Gustave Ador  1207 Genève
DESCRIPTION:C'est la rentrée!\nVenez rejoindre les alumni de Genève pour un afterwork et une discussion autour des événements alumni pour la saison à venir.\n \nLieu : le Bateau, Quai Gustave Ador, Genève \nQuand: le mercredi 22 septembre 2021\nA partir de 18:30 jusqu'à 21:30 environ\nThème : préparation de la saison. 2021/2022. \n\nVenez nombreux.\n
BEGIN:VALARM
ACTION:DISPLAY
TRIGGER:-PT60M
DESCRIPTION:Afterwork in Geneva, Switzerland
END:VALARM
END:VEVENT
END:VCALENDAR