BEGIN:VCALENDAR
VERSION:2.0
X-WR-TIMEZONE:Europe/Paris
PRODID:-//Audencia//NONSGML v1.0//EN
CALSCALE:GREGORIAN
BEGIN:VEVENT
SUMMARY:PRIX DES RESSOURCES HUMAINES GRAND-OUEST
DTSTART:20171027T000000
DTEND:20260425T210046
UID:106
DTSTAMP:20260425T210046
LOCATION:Audencia Atlantic Campus
DESCRIPTION:Le PRIX des Ressources Humaines édition Grand-Ouest récompense les actions/projets RH développé(e)s au cours de l'année 2016/2017 par les entreprises du Grand-Ouest. Il est organisé par le cabinet Michael Page et l'Association Nationale des DRH, soutenu par Audencia, qui l'accueille dans ses locaux. \n\nVous êtes candidats ? Déposez votre dossier de candidature avant le 27 octobre 2017.\n \n\nDéposez votre dossier 
BEGIN:VALARM
ACTION:DISPLAY
TRIGGER:-PT60M
DESCRIPTION:PRIX DES RESSOURCES HUMAINES GRAND-OUEST
END:VALARM
END:VEVENT
END:VCALENDAR