BEGIN:VCALENDAR
VERSION:2.0
X-WR-TIMEZONE:Europe/Paris
PRODID:-//Audencia//NONSGML v1.0//EN
CALSCALE:GREGORIAN
BEGIN:VEVENT
SUMMARY:Club Com' & Média - Gouvernance de l'information par Christophe Binot
DTSTART:20210930T183000
DTEND:20210930T193000
UID:1059
DTSTAMP:20260425T210118
LOCATION:Audencia Campus Paris 95 rue Falguière 75015 Paris
DESCRIPTION:THEME :\nLa révolution numérique a modifié profondément la gestion des informations dans les organisations. Christophe Binot présentera les enjeux et les risques liés à l’information pour l’entreprise et le citoyendans cette ère du tout digital (big data, IA, IoT…) sur fond d’infobésité, de dataclysme, d’infodéluge, de fake news, de guerre économique et de déstabilisation de la sécurité et de l’ordre mondial. Il détaillera notamment :\n- Les menaces qui ne cessent de croître pour l’entreprise et l’Etat autour de la conservation des documents, de la sécurité de l’information et des données personnelles.\n- Les enjeux de cette fameuse souveraineté numérique dont on espère tant.\n- Le travail à mener par les entreprises et les administrations pour rester « hors de l’eau » avec des approches combinant la gouvernance de l’information et l’intelligence économique.\n- L’hygiène informationnelle que l’on doit avoir en tant que citoyen pour être le moins possible à risque.\n\n________________________________\n\nINTERVENANT :\nChristophe Binot est Information Governance Manager chez Total. Il enseigne dans plusieurs master 2, est membre du CA de l’Institut Fredrick Bull et co-président des IAI Awards, les trophées de la gouvernance de l’information. Il a débuté comme chercheur en Automatique et Traitement du Signal dans un laboratoire associé au CNRS. Il a ensuite occupé après différents postes dans les DSI d'Elf, Sanofi et Total sur les domaines de l'Intelligence Economique, du Knowledge Management, de la Gestion Electronique des Documents et de la Business Intelligence. Il a été ensuite Analyste Senior à la Direction de l'Intelligence Economique de Total. Puis il a développé l'e-learning à la Direction Formation avant de créer le domaine transverse de la Gouvernance de l'Information il y a 9 ans.\n\n________________________________\n\nDÉROULEMENT DE LA SOIRÉE :\n18h30 - 19h15 : Intervention de Christophe Binot\n19h15 - 19h30 : Débat animé par Jérôme Bondu avec les participants\n\n 
BEGIN:VALARM
ACTION:DISPLAY
TRIGGER:-PT60M
DESCRIPTION:Club Com' & Média - Gouvernance de l'information par Christophe Binot
END:VALARM
END:VEVENT
END:VCALENDAR