BEGIN:VCALENDAR
VERSION:2.0
X-WR-TIMEZONE:Europe/Paris
PRODID:-//Audencia//NONSGML v1.0//EN
CALSCALE:GREGORIAN
BEGIN:VEVENT
SUMMARY:Career Center Webinar: Working in France
DTSTART:20211207T183000
DTEND:20260425T210122
UID:1058
DTSTAMP:20260425T210122
LOCATION:
DESCRIPTION:In this workshop, you will:\n \n\n	Discover how the French market works from a recruiters perspective\n	Get concrete tips on applications, cultural nuances of the French workplace with some specific do’s and don’ts adapted to this market\n	And of course we are very happy to answer any of your questions around internships/jobs in France\n\nThis session will be on Microsoft Teams.\nPlease click on the link to join the meeting\n 
BEGIN:VALARM
ACTION:DISPLAY
TRIGGER:-PT60M
DESCRIPTION:Career Center Webinar: Working in France
END:VALARM
END:VEVENT
END:VCALENDAR