BEGIN:VCALENDAR
VERSION:2.0
X-WR-TIMEZONE:Europe/Paris
PRODID:-//Audencia//NONSGML v1.0//EN
CALSCALE:GREGORIAN
BEGIN:VEVENT
SUMMARY:Career Center Webinar : (Re)Donnez du sens à votre carrière grâce à l’IKIGAI
DTSTART:20211130T183000
DTEND:20260425T211115
UID:1057
DTSTAMP:20260425T211115
LOCATION:
DESCRIPTION:L’IKIGAI est un concept japonais qui signifie « joie de vivre » / « raison d’être ». Selon les japonais, chaque individu a un IKIGAI. Le découvrir donne du sens à notre vie.\n\nObjectifs du webinaire : \n\n	Découvrir le concept de l’IKIGAI et se l’approprier\n	Améliorer sa connaissance de soi\n	Préciser son projet professionnel\n\nNous allons explorer ensemble la signification et les questions à se poser pour remplir les 4 cercles de l’IKIGAI :\n\n\n	Ce que j’aime faire\n	Ce que je fais avec talent\n	Mes valeurs et ce dont le monde a besoin\n	Ce pour quoi je peux être payé\n\nGrace au webinaire Ikigai vous pourrez : \n1) Mener une réflexion sur vos goûts, talents, besoins et les valeurs qui vous animent et donnent du sens à votre vie\n2) Apprendre à vous recentrer pour être davantage concentré(e) sur votre objectif d’épanouissement professionnel\n3) Remplir le livret Ikigaï que je vous transmettrai au début du webinaire. Celui-ci vous servira ensuite tout au long de votre démarche de réflexion.\n\nCette session se tiendra via Microsoft Teams.\nCliquez ici pour participer à la réunion\n 
BEGIN:VALARM
ACTION:DISPLAY
TRIGGER:-PT60M
DESCRIPTION:Career Center Webinar : (Re)Donnez du sens à votre carrière grâce à l’IKIGAI
END:VALARM
END:VEVENT
END:VCALENDAR