BEGIN:VCALENDAR
VERSION:2.0
X-WR-TIMEZONE:Europe/Paris
PRODID:-//Audencia//NONSGML v1.0//EN
CALSCALE:GREGORIAN
BEGIN:VEVENT
SUMMARY:Career Center Webinar: Salary negotiation
DTSTART:20211123T183000
DTEND:20260425T210141
UID:1055
DTSTAMP:20260425T210141
LOCATION:
DESCRIPTION:You are about to look for your 1st job and want to know when to address the salary question during a job interview ?\n\nFind out the vital do's and don'ts of salary negotiation during this workshop.\nInterview questions and styles may change from business to business however there are questions that are commonly known to be asked at most interviews.\n\nJoin the workshop to discover and train for these basic-must-know questions.\n\nThis session will be on Microsoft Teams.\nPlease click on the link to join the meeting
BEGIN:VALARM
ACTION:DISPLAY
TRIGGER:-PT60M
DESCRIPTION:Career Center Webinar: Salary negotiation
END:VALARM
END:VEVENT
END:VCALENDAR