BEGIN:VCALENDAR
VERSION:2.0
X-WR-TIMEZONE:Europe/Paris
PRODID:-//Audencia//NONSGML v1.0//EN
CALSCALE:GREGORIAN
BEGIN:VEVENT
SUMMARY:Career Center Webinar : Vos Entretiens à distance
DTSTART:20211116T183000
DTEND:20260425T210432
UID:1054
DTSTAMP:20260425T210432
LOCATION:
DESCRIPTION:Le Career Center d'Audencia vous donne les trucs et astuces de l'entretien à distance, téléphonique et video, pour que vous soyez le mieux préparé possible.\nCe premier contact de 20/30 mn avec l'employeur est crucial !\n\nRejoignez-nous ! \n#rythme #action #sur-mesure\n\nCette session se tiendra via Microsoft Teams.\nCliquez ici pour participer à la réunion
BEGIN:VALARM
ACTION:DISPLAY
TRIGGER:-PT60M
DESCRIPTION:Career Center Webinar : Vos Entretiens à distance
END:VALARM
END:VEVENT
END:VCALENDAR