BEGIN:VCALENDAR
VERSION:2.0
X-WR-TIMEZONE:Europe/Paris
PRODID:-//Audencia//NONSGML v1.0//EN
CALSCALE:GREGORIAN
BEGIN:VEVENT
SUMMARY:Career Center Webinar: Unlock LinkedIn's potential for your job search
DTSTART:20211109T183000
DTEND:20260425T210026
UID:1053
DTSTAMP:20260425T210026
LOCATION:
DESCRIPTION:Unlock LinkedIn's potential in your search for an internship or job.\n\nThanks to Audencia Careers, you will gain an overview as well as tactical tips and strategies on how to get the most out of this exceptional social media resource.\n\nFeatured topics will include advice on building a great profile and leveraging your network...\n\nThis session will be on Microsoft Teams.\nPlease click on the link to join the meeting
BEGIN:VALARM
ACTION:DISPLAY
TRIGGER:-PT60M
DESCRIPTION:Career Center Webinar: Unlock LinkedIn's potential for your job search
END:VALARM
END:VEVENT
END:VCALENDAR