BEGIN:VCALENDAR
VERSION:2.0
X-WR-TIMEZONE:Europe/Paris
PRODID:-//Audencia//NONSGML v1.0//EN
CALSCALE:GREGORIAN
BEGIN:VEVENT
SUMMARY:Career Center Webinar : Les clés d’une démarche réseau réussie
DTSTART:20211019T183000
DTEND:20260425T210008
UID:1052
DTSTAMP:20260425T210008
LOCATION:
DESCRIPTION:Qui n’a jamais entendu parler de Networking ou de démarche réseau ?\n\nVous souhaitez développer votre réseau ?\nInitier une démarche de networking ?\n\nQue ce soit pour trouver un job, obtenir des informations, bénéficier de conseils de professionnels…., le réseau est essentiel pour saisir des opportunités ! \n\nRencontrez un consultant Career Center qui vous apportera toutes les clés pour améliorer votre manière d'aborder la démarche réseau en partageant avec vous des conseils simples, émanant de professionnels du sujet tels que Daniel Porot et Steve Dalton. \n\nCette session se tiendra via Microsoft Teams.\nCliquez ici pour participer à la réunion
BEGIN:VALARM
ACTION:DISPLAY
TRIGGER:-PT60M
DESCRIPTION:Career Center Webinar : Les clés d’une démarche réseau réussie
END:VALARM
END:VEVENT
END:VCALENDAR