BEGIN:VCALENDAR
VERSION:2.0
X-WR-TIMEZONE:Europe/Paris
PRODID:-//Audencia//NONSGML v1.0//EN
CALSCALE:GREGORIAN
BEGIN:VEVENT
SUMMARY:Career Center Webinar : Vos outils de candidature
DTSTART:20211005T183000
DTEND:20260425T210145
UID:1050
DTSTAMP:20260425T210145
LOCATION:
DESCRIPTION:Durant cet atelier, le Career Center partage avec vous les fondamentaux pour que vos outils de candidatures soit optimisés !\nCe qu’il faut préparer en amont, les erreurs à éviter, ce qui fait la différence...\n\n#conseils #coconstruction #efficacité\n\nCette session se tiendra via Microsoft Teams.\nCliquez ici pour participer à la réunion
BEGIN:VALARM
ACTION:DISPLAY
TRIGGER:-PT60M
DESCRIPTION:Career Center Webinar : Vos outils de candidature
END:VALARM
END:VEVENT
END:VCALENDAR