BEGIN:VCALENDAR
VERSION:2.0
X-WR-TIMEZONE:Europe/Paris
PRODID:-//Audencia//NONSGML v1.0//EN
CALSCALE:GREGORIAN
BEGIN:VEVENT
SUMMARY:Coffee and catch up in Bogotá, Colombia
DTSTART:20171024T140000
DTEND:20171024T150000
UID:105
DTSTAMP:20260425T210025
LOCATION:Hotel JW Marriott Calle 73, nº 8 - 60 Bogotá
DESCRIPTION:On the occasion of Michelle Cristy's visit to Bogotá, come and join her for coffee on Tuesday 24th October from 14.00 at\n\n \nHotel JW Marriott\nCalle 73, nº 8 - 60\nBogotá\n \n \nThis will be a great opportunity for you to catch up with the latest news from Audencia!\n\n\nWant to share your Audencia experience with potential students?\n\nFor alumni who are available to lend a hand, Michelle would love some help on the Audencia stand of the student fair that is being held in the same hotel (JW Marriott) from 16.30 to 20.00 on the same day.\nThank you!
BEGIN:VALARM
ACTION:DISPLAY
TRIGGER:-PT60M
DESCRIPTION:Coffee and catch up in Bogotá, Colombia
END:VALARM
END:VEVENT
END:VCALENDAR