BEGIN:VCALENDAR
VERSION:2.0
X-WR-TIMEZONE:Europe/Paris
PRODID:-//Audencia//NONSGML v1.0//EN
CALSCALE:GREGORIAN
BEGIN:VEVENT
SUMMARY:Career Center Webinar : Quels outils & solutions pour atteindre mes objectifs personnels ?
DTSTART:20210928T183000
DTEND:20260425T210146
UID:1049
DTSTAMP:20260425T210146
LOCATION:
DESCRIPTION:Atteindre des objectifs en équipe... facile.\nAtteindre des objectifs en solo... moins évident ? Plus facile ? Impossible ? Interminable ?...\nComment expliquer cette différence et surtout comment y remédier ?\n\nLe Career Center d'Audencia vous propose un webinaire pour trouver votre propre style de conduite de projet et rester motivé, même dans un contexte compliqué.\n\nCette session se tiendra via Microsoft Teams.\nCliquez ici pour participer à la réunion
BEGIN:VALARM
ACTION:DISPLAY
TRIGGER:-PT60M
DESCRIPTION:Career Center Webinar : Quels outils & solutions pour atteindre mes objectifs personnels ?
END:VALARM
END:VEVENT
END:VCALENDAR