BEGIN:VCALENDAR
VERSION:2.0
X-WR-TIMEZONE:Europe/Paris
PRODID:-//Audencia//NONSGML v1.0//EN
CALSCALE:GREGORIAN
BEGIN:VEVENT
SUMMARY:Alumni Weekend - Van Gogh Alive # The Experience
DTSTART:20211023T090000
DTEND:20211023T150000
UID:1048
DTSTAMP:20260425T210151
LOCATION:C8 Dewey Centre, No. 27 West Dawang Road, Chaoyang District, Beijing, China
DESCRIPTION:Location: C8 Dewey Centre, No. 27 West Dawang Road, Chaoyang District, Beijing, China \nDate: Saturday, Oct 23rd, 2021 \nTime: 15:00 Beijing Time \n\nTo register, please add TIAN Jing by scanning the QR code below. \n
BEGIN:VALARM
ACTION:DISPLAY
TRIGGER:-PT60M
DESCRIPTION:Alumni Weekend - Van Gogh Alive # The Experience
END:VALARM
END:VEVENT
END:VCALENDAR