BEGIN:VCALENDAR
VERSION:2.0
X-WR-TIMEZONE:Europe/Paris
PRODID:-//Audencia//NONSGML v1.0//EN
CALSCALE:GREGORIAN
BEGIN:VEVENT
SUMMARY:Audencia accueille les Rencontres du Développement Durable (RDD)
DTSTART:20211011T083000
DTEND:20211011T183000
UID:1047
DTSTAMP:20260425T210044
LOCATION:
DESCRIPTION:\n\nChers alumni,\n \nLes rencontres du développement durable (RDD) reviennent pour la 2ème année consécutive. Cette année, Audencia accueille et participe à la date du 11 octobre.\n\nPour rappel, cet événement est une conférence citoyenne et démocratique permettant à chacun de s'emparer des enjeux de transition écologique et solidaire. \nL'objectif est d'aider les citoyens à se faire une opinion informée sur les enjeux du développement durable.\nComment bâtir les villes du futur ? Pourquoi et comment mixer nos énergies ? Sommes-nous prêts à imaginer l'industrie de demain ? De quelle manière doit-on investir la finance durable ? Tout cela nous permettra-t-il de fonder des société(s) inclusive(s)?\n\nLes RDD sont gratuites et auront lieu du 27 septembre au 14 octobre ! \nEn 2021, Audencia a le plaisir d'accueillir le 11 octobre, en distanciel, les débats autour de la thématique "Gérer et régénérer" en présence de : \n\n\n	Hugo Clément, Activiste, Journaliste\n	Gwenaële Coate, Directrice scientifique de The Sea Cleaners \n	Thomas Friang, Fondateur et Directeur général de l'Institut Open Diplomacy\n	Stéphane Hallaire, Fondateur et Président de Reforest'Action  \n	Galitt Kenan, Directrice de l'institut Jane Goodall France \n	Pierre Larrouturou, Député européen, Rapporteur général du budget de l'UE 2021\n\nSouad Taibi, Professeur Assistant Département Finance, José Maillet, Responsable Gaïa , Christophe Germain, Directeur Général et André Sobczak, Délégué Général RSE représenteront Audencia lors de ces différents échanges.\n\nNous vous invitons à vous inscrire à la session du 11 octobre qui se tiendra en distanciel, au vue des conditions sanitaires actuelles, et à consulter le programme complet de ce rendez-vous riche !\n\nSi vous avez des questions, nous vous invitons à nous contacter via l'email suivant : events@audencia.com.
BEGIN:VALARM
ACTION:DISPLAY
TRIGGER:-PT60M
DESCRIPTION:Audencia accueille les Rencontres du Développement Durable (RDD)
END:VALARM
END:VEVENT
END:VCALENDAR