BEGIN:VCALENDAR
VERSION:2.0
X-WR-TIMEZONE:Europe/Paris
PRODID:-//Audencia//NONSGML v1.0//EN
CALSCALE:GREGORIAN
BEGIN:VEVENT
SUMMARY:Webinar: Digital Transformation in Sales, Finance, & Law : Tools, Impacts, and Practices
DTSTART:20211014T130000
DTEND:20211014T140000
UID:1046
DTSTAMP:20260425T210316
LOCATION:
DESCRIPTION:Dear Alumni,\n\nWith great pleasure, we invited three female alumni who are based in Shanghai, China, to share their experience and insights on Digital Transformation.\n\nIn this webinar, we will cover topics such as:\n- the significance of digital transformation in consumer goods companies\n- the digital practice of new Chinese e-commerce retailers and finance functions\n- the impact of digital platforms on traditional industry sales channels & investment trends\n- the impact of digital tools on factory operations and everyday work\n- digitised rights & internet infringement\n- challenges & opportunities\n\nWe encourage you to send your questions beforehand to tcliu@audencia.com. Otherwise, there is a Q&A section at the end of the webinar where you can raise your question(s) freely.\n\nInformation\nDate: Thursday, October 14th, 2021\nTime: 19:00-20:00 China Time / 13:00-14:00 France Time\nLanguage: English\nVenue: Online, click here to join us on time\n\nSpeakers\n\n\nJing ZHOU IMM 2015\n \nExternal Investment Manager Asia-Pacific @ Saint-Gobain Group\n \nSpecialised in business innovation, corporate venture, and digital transformation. Responsible for scouting new technologies and startups for direct investment and partnership, focus on digital technology, sustainability, advanced materials, circular economy, smart mobility, etc. Previously, Jing was a certified innovation scout specialised in the areas of food and retail in the corporate innovation department in Metro Group in Germany.\n \n\n\nYeying JIANG GE 2009\n \nPartner @ Fullsun Financial Consulting\n\nStartup Finance VP, Regional Finance Director with more than 10 years' experience across different industries: a French CAC40 FMCG company, a Euronext listed leading service group, an early stage of Chinese cross-border FMCG e-commerce firm, and previously in financial audit from a Big 4 accounting firm. \n \n\n\nYiwen XIE GE 2012\n \nLawyer @ DEHEHANTONG LAW OFFICES\n \nPRC lawyer, involved in the establishment, merger & acquisition, dissolution & liquidation of many China domestic or foreign-invested enterprises. Yiwen has rich professional knowledge and practical experience in general corporate, labor, and business dispute resolution, as well as focuses on digital and e-commerce related law and practices.
BEGIN:VALARM
ACTION:DISPLAY
TRIGGER:-PT60M
DESCRIPTION:Webinar: Digital Transformation in Sales, Finance, & Law : Tools, Impacts, and Practices
END:VALARM
END:VEVENT
END:VCALENDAR