BEGIN:VCALENDAR
VERSION:2.0
X-WR-TIMEZONE:Europe/Paris
PRODID:-//Audencia//NONSGML v1.0//EN
CALSCALE:GREGORIAN
BEGIN:VEVENT
SUMMARY:Club Culture & Management - Cycle engagement 1/2 - égalité femmes-hommes dans la culture : le mélange des genres ?
DTSTART:20210929T190000
DTEND:20210929T210000
UID:1045
DTSTAMP:20260425T210002
LOCATION:Fondation Pernod Ricard 1 Cours Paul Ricard 75008 Paris
DESCRIPTION: \n\nPremier rendez-vous de l'année mercredi 29 septembre à 19h \ndans les nouveaux locaux de la Fondation Pernod Ricard !\n\n\nParce que nous avons choisi l’égalité de genres comme pilier de notre modèle de société, celle-ci doit pouvoir se décliner dans tous les secteurs. Comment cette volonté sociétale se traduit-elle dans la culture ?\n\nVenez débattre avec nos intervenantes :\n\n\n	Evelyne Laquit, Directrice de la communication en charge des questions d'égalité femmes-hommes du Centre national du cinéma et de l'image animée\n	Reine Prat, Autrice de deux rapports ministériels « pour l’égalité entre les femmes et les hommes dans les arts du spectacle »\n	Corinne Sadki, Conseillère Europe et Égalite femmes-hommes du Centre national de la musique\n	Anne-Lise Vinciguerra, Directrice de l'association La Petite\n\n \n\nRéservez votre place dès maintenant !\n\n\nNouvelle saison 100% phygitale\nPour chaque débat, vous avez la possibilité : soit de venir sur place et de rencontrer différents professionnels de la culture, soit de suivre la conférence en ligne et de poser vos questions via le chat.\n\n \n\nMODALITÉS D'ACCUEIL EN PRÉSENTIEL :\n\n- les débats commencent à 19h, l'accueil se fait à partir de 18h30\n- si vous bénéficiez d'un tarif spécial (tarif chômeur ou tarif étudiant à 15€), vous devrez nous présenter un justificatif de moins de 3 mois\n\n- la présentation d'un pass sanitaire valide ainsi que le port du masque durant le débat vous seront demandés\n\n \n\nAu plaisir de vous retrouver,\n\nL'équipe du Club Culture & Management
BEGIN:VALARM
ACTION:DISPLAY
TRIGGER:-PT60M
DESCRIPTION:Club Culture & Management - Cycle engagement 1/2 - égalité femmes-hommes dans la culture : le mélange des genres ?
END:VALARM
END:VEVENT
END:VCALENDAR