BEGIN:VCALENDAR
VERSION:2.0
X-WR-TIMEZONE:Europe/Paris
PRODID:-//Audencia//NONSGML v1.0//EN
CALSCALE:GREGORIAN
BEGIN:VEVENT
SUMMARY:Alumni Dinner in Hong Kong: Audencia X EDHEC
DTSTART:20211007T133000
DTEND:20211007T173000
UID:1042
DTSTAMP:20260425T210437
LOCATION:Oolaa Soho, 1-9 Bridges Street, Central, Hong Kong, China
DESCRIPTION:
BEGIN:VALARM
ACTION:DISPLAY
TRIGGER:-PT60M
DESCRIPTION:Alumni Dinner in Hong Kong: Audencia X EDHEC
END:VALARM
END:VEVENT
END:VCALENDAR