BEGIN:VCALENDAR
VERSION:2.0
X-WR-TIMEZONE:Europe/Paris
PRODID:-//Audencia//NONSGML v1.0//EN
CALSCALE:GREGORIAN
BEGIN:VEVENT
SUMMARY:Webinar - Oui, les œuvres d’art ont toute leur place en entreprise !
DTSTART:20210914T183000
DTEND:20210914T191500
UID:1040
DTSTAMP:20260425T210316
LOCATION:
DESCRIPTION:Webinaire exclusif proposé par MUSY\nle 14.09.2021 à 18h30 et 16.09.2021 à 12h15 :\n \n\nOui, les œuvres d’art ont toute leur place en entreprise ! \n\n\n? Au programme des 45 minutes ensemble : \n➡️ L’art en entreprise, de nombreux enjeux : Marque employeur, communication externe, enjeu financier, fiscal, ou sociétal... et bien sûr hédoniste !\n➡️ Nos conseils aux entreprises pour investir \n➡️ Avec l’expertise de Maître Stéphanie Doutremepuich, avocate d’affaires \n \n\nInscrivez-vous ?? https://lnkd.in/gCDQcfvr \n\n(Une version enregistrée sera disponible pour les personnes inscrites uniquement !)
BEGIN:VALARM
ACTION:DISPLAY
TRIGGER:-PT60M
DESCRIPTION:Webinar - Oui, les œuvres d’art ont toute leur place en entreprise !
END:VALARM
END:VEVENT
END:VCALENDAR