BEGIN:VCALENDAR
VERSION:2.0
X-WR-TIMEZONE:Europe/Paris
PRODID:-//Audencia//NONSGML v1.0//EN
CALSCALE:GREGORIAN
BEGIN:VEVENT
SUMMARY:Dinner in Lima, Peru
DTSTART:20171017T190000
DTEND:20171017T220000
UID:104
DTSTAMP:20260425T205813
LOCATION:Restaurant Tanta  Calle Malecón de la Reserva 610 (Larcomar) Miraflores, Lima 15074
DESCRIPTION:On the occasion of Michelle Cristy's visit to Lima, come and join her for dinner on Tuesday 17th October from 19.00 at\n\n \nRestaurant Tanta \nCalle Malecón de la Reserva 610 (Larcomar)\nMiraflores\nLima 15074\n \n\nThis will be a great opportunity for you to catch up with the latest news from Audencia!
BEGIN:VALARM
ACTION:DISPLAY
TRIGGER:-PT60M
DESCRIPTION:Dinner in Lima, Peru
END:VALARM
END:VEVENT
END:VCALENDAR