BEGIN:VCALENDAR
VERSION:2.0
X-WR-TIMEZONE:Europe/Paris
PRODID:-//Audencia//NONSGML v1.0//EN
CALSCALE:GREGORIAN
BEGIN:VEVENT
SUMMARY:CCI France Chine Welcome Back Cocktail @ Shanghai
DTSTART:20210916T123000
DTEND:20210916T160000
UID:1039
DTSTAMP:20260425T211127
LOCATION:CCI FRANCE CHINE Shanghai Office, 2F, Mayfair Tower, 83 Fu Min Road, Jing'an District, Shanghai, China
DESCRIPTION:Our  partner, CCI FRANCE CHINE, is pleased to invite you to its traditional:\n \n\nWelcome Back Cocktail\n\n\nINTRODUCTION\n\nIn the presence of Chinese and French officials, CCI FRANCE CHINE board members, and our partners. This event is specially organized only for CCI FRANCE CHINE members to enable deeper connection among our community. During this exclusive gathering, you will enjoy some wonderful moments for professional exchange with your business peers. To better assist your future projects, we also look forward to catching up with our fellow members.    \n\nDelightful food and drinks will be well prepared. Our convivial Welcome Back Cocktail night only needs your presence to be complete. So please come along and get in the mood of the harvest season.  \n\nAGENDA\n\nDate: Thursday, September 16th\nTime: 6:30 pm to 10:00 pm\nLanguage: English\nPrice: Free, strictly reserved for invited members
BEGIN:VALARM
ACTION:DISPLAY
TRIGGER:-PT60M
DESCRIPTION:CCI France Chine Welcome Back Cocktail @ Shanghai
END:VALARM
END:VEVENT
END:VCALENDAR