BEGIN:VCALENDAR
VERSION:2.0
X-WR-TIMEZONE:Europe/Paris
PRODID:-//Audencia//NONSGML v1.0//EN
CALSCALE:GREGORIAN
BEGIN:VEVENT
SUMMARY:CCI France Chine Webinar: How can Marketing Automation and Webinar Empower Enterprises to Increase Sales Conversion in China?
DTSTART:20210915T130000
DTEND:20210915T150000
UID:1038
DTSTAMP:20260425T210115
LOCATION:
DESCRIPTION:Introduction\nIn order to provide a platform to benchmark new concepts, develop ideas, and exchange experiences related to marketing, CCI FRANCE CHINE South China established the Marketing Working Group. Any marketing expert, member of CCI FRANCE CHINE, can join the group and share their vision of the industry.\n\nThis Group allows experts to showcase best practice examples, creates opportunities for discussions or forums on specific topics, and encourages business peers meetings. For our first Marketing Working Group, we are pleased to invite Kai HONG and Yachen XIE to share their insights on Marketing Technology (MarTech).\n\nCOVID-19 has impacted economies and lives around the world. It turned most organizations’ digital transformation initiatives from 5 to 10-year plans into a huge challenge to be solved overnight. Marketing technology like marketing automation & Webinar provides a new way for enterprises to accelerate the digital transformation process and find new growth and development opportunities in the aspects of product upgrading, business transformation, leads acquisition, nurturing & conversion, omnichannel data connecting, market strategy adjustment.\n\nWhat we will cover in this session:\n- Trends & Difficulties in the digital transformation of enterprises in China\n- Make full use of MarTech & Webinar, to attract new customers, optimize conversion rate and accelerate digital marketing transformation\n- How to optimize your campaign for the audience and how to overcome the online marketing challenges\n- Best practices\nInformation  \nDate:  September 15th\nTime:\n- Webinar: 19:30 - 20:30 Beijing Time / 13:30 - 14:30 Paris Time\n- Entire Event (Welcome Message + Webinar + Offline Networking): 19:00 - 21:00 Beijing Time / 13:00 - 15:00 Paris Time\nLanguage:  English  \nPrices: Free for Audencia Alumni (see details at the end)\nVenues:  CCI FRANCE CHINE Guangzhou OfficeRoom 802, 8/F, Leatop Plaza, 32 Zhujiang East Road, Zhujiang New Town, Guangzhou, China\nWebinar: This Working Group is also available as a webinar, the link will be sent to you after registration. \n\nSpeakers     \n\n\nKai HONG \n\nChairman & CEO, JINGdigital\nMr. Kai HONG is the Chairman and CEO of JINGdigital. He has more than 20 years of experience in Strategy, Marketing, and Entrepreneurship. Prior to JINGdigital, he founded Capvision Group, the largest knowledge sourcing company in the Asia Pacific, and Babymap, a leading Social E-Commerce platform for K5 in China. He has also worked for Siemens, Bain & Company, and served as Managing Director of Cisco Systems. He holds an MBA from Wharton School of Business, MA from the University of Pennsylvania, and MSc from TH Aachen, Germany. \n \n\nYachen Xie \n\nDigital transformation consultant, Vhall\nYachen is the principal digital strategy consultant of Vhall, possesses outstanding experience and unique viewpoints in business strategy, digital transformation, and B2B content marketing. She specializes in mobilizing multi-party resources to provide high-quality marketing solutions for clients. Prior to joining Vhall, she worked as a consultant in Forrester, COFCO, and served as a PTA in Ipsos and McKinsey. \n\n\nTo register, click here, or scan the following QR Code\n\n\nAttention! In order to benefit from the free membre price, please indicate "Audencia Alumni" in the Company Name field. 
BEGIN:VALARM
ACTION:DISPLAY
TRIGGER:-PT60M
DESCRIPTION:CCI France Chine Webinar: How can Marketing Automation and Webinar Empower Enterprises to Increase Sales Conversion in China?
END:VALARM
END:VEVENT
END:VCALENDAR