BEGIN:VCALENDAR
VERSION:2.0
X-WR-TIMEZONE:Europe/Paris
PRODID:-//Audencia//NONSGML v1.0//EN
CALSCALE:GREGORIAN
BEGIN:VEVENT
SUMMARY:After Triath' - Triathlon Audencia La Baule
DTSTART:20210918T183000
DTEND:20210918T220000
UID:1034
DTSTAMP:20260425T210144
LOCATION:La Baule
DESCRIPTION:Chers diplômé(e)s,\n\nVous êtes inscrit(e) au 34ème Triathlon Audencia La Baule \nOu vous venez supporter vos ami(e)s,\nOu tout simplement vous habitez la région,\n\nVenez nous retrouver à l'after Triath'​ !\n \nLe samedi 18 septembre 2021\nde 18h30 à 22h\nAu Resto de plage : MONICA - Le Clan des Mamma\n24 Boulevard Hennecart\n44500 LA BAULE\n​NB : pass sanitaire obligatoire\n \nInscriptions en haut à droite\n\nL'équipe Alumni et l'association Audencia Alumni\n\n\n 
BEGIN:VALARM
ACTION:DISPLAY
TRIGGER:-PT60M
DESCRIPTION:After Triath' - Triathlon Audencia La Baule
END:VALARM
END:VEVENT
END:VCALENDAR