BEGIN:VCALENDAR
VERSION:2.0
X-WR-TIMEZONE:Europe/Paris
PRODID:-//Audencia//NONSGML v1.0//EN
CALSCALE:GREGORIAN
BEGIN:VEVENT
SUMMARY:Audencia Alumni X CCI France Chine: Shanghai Afterwork & E-Commerce Webinar
DTSTART:20211021T120000
DTEND:20211021T160000
UID:1032
DTSTAMP:20260425T210143
LOCATION:CCI France Chine, 2/F Mayfair Tower, 83 Fu min Road, Shanghai, China
DESCRIPTION:? Together with CCI France Chine Shanghai Branch, Audencia Alumni invite you to an exclusive alumni gathering on Oct 21st. Drinks, snacks, friends, come and pass a lovely evening altogether!\n\n? For this occasion, we have also invited senior alumni who work in the e-commerce industry to hold a 1-hour sharing session. The session will also be available as a webinar to those who are outside of the city (webinar time: 19:00-20:00 in China / 13:00-14:00 in France, joining link: https://us02web.zoom.us/j/86349234364).\n\n?? Reserve your place by scanning the QR code in the following posters (the two are the same). \n \nP.S. If you can only attend the webinar, please register yourself here on the dedicated page. \n\n\n
BEGIN:VALARM
ACTION:DISPLAY
TRIGGER:-PT60M
DESCRIPTION:Audencia Alumni X CCI France Chine: Shanghai Afterwork & E-Commerce Webinar
END:VALARM
END:VEVENT
END:VCALENDAR