BEGIN:VCALENDAR
VERSION:2.0
X-WR-TIMEZONE:Europe/Paris
PRODID:-//Audencia//NONSGML v1.0//EN
CALSCALE:GREGORIAN
BEGIN:VEVENT
SUMMARY:Ontario, Canada: AAGEF Entrepreneur Challenge 2021
DTSTART:20211124T170000
DTEND:20211124T220000
UID:1030
DTSTAMP:20260425T210655
LOCATION:TBD!
DESCRIPTION:\n\nFor its seventh edition of the Entrepreneur Challenge, AAGEF is now welcoming applications from the most exciting start-ups. For the startup community, it's a perfect platform to be coached and advised by the industry top leaders.\n \nDeadline for applications: Friday 15 October 2021\nOfficial announcement and winners' ceremony: Wednesday 24 November 2021\n \n\nFor more information and to submit your projet\n\n \n\nAll entrepreneurs are invited to apply. Upon submission, all applications will be reviewed by our selection committee. And then, the three finalists will be announced on a date to be announced later.\nThe three selected entrepreneurs will present in front of a jury of investors and top executives. The winners will be awarded cash gifts and prizes besides the invaluable guidance from top executives.\n \n\n\n \n\n\n\n \n\nAAGEF Ontario, with over 2,000 executives, is a networking association of French Elite Graduate Schools alumni, living and working in Ontario. We also welcome Ontario-based alumni of Canadian and global Elite Universities. \nFollow us on LinkedIn: https://www.linkedin.com/company/72309514 \n
BEGIN:VALARM
ACTION:DISPLAY
TRIGGER:-PT60M
DESCRIPTION:Ontario, Canada: AAGEF Entrepreneur Challenge 2021
END:VALARM
END:VEVENT
END:VCALENDAR