BEGIN:VCALENDAR
VERSION:2.0
X-WR-TIMEZONE:Europe/Paris
PRODID:-//Audencia//NONSGML v1.0//EN
CALSCALE:GREGORIAN
BEGIN:VEVENT
SUMMARY:Afterwork in Mumbai, India
DTSTART:20171125T190000
DTEND:20171125T203000
UID:103
DTSTAMP:20260425T205816
LOCATION:Taj Lands End Bandstand Fort, Byramji Jeejeebhoy Road, Bandra West Mumbai
DESCRIPTION:On the occasion of Yombo Rahman's visit to Mumbai, come and meet her for an afterwork gathering on Saturday 25th November from 19.00 at\n\n \nTaj Lands End Hotel\nBandstand Fort\nByramji Jeejeebhoy Road\nBandra West - Mumbai\n\n\n\nThis will be a great opportunity for you to catch up with the latest news from Audencia!
BEGIN:VALARM
ACTION:DISPLAY
TRIGGER:-PT60M
DESCRIPTION:Afterwork in Mumbai, India
END:VALARM
END:VEVENT
END:VCALENDAR