BEGIN:VCALENDAR
VERSION:2.0
X-WR-TIMEZONE:Europe/Paris
PRODID:-//Audencia//NONSGML v1.0//EN
CALSCALE:GREGORIAN
BEGIN:VEVENT
SUMMARY:Fast & Furious: Karting in Beijing
DTSTART:20210718T120000
DTEND:20210718T130000
UID:1029
DTSTAMP:20260425T210151
LOCATION:Red 1, LaiGuangYing Road, Chaoyang District, Beijing, China
DESCRIPTION:Dear Alumni,\n \nIn this summer time, we invite you to another alumni activity across French business schools organised by: \n\nAUDENCIA, EDHEC, EMLYON, ESCP, KEDGE. \n \n\n[DATE & TIME]\nJuly 18th, 2021, Sunday\n18:00 - 19:00 (Beijing Time)\n \n\n[LOCATION & PRICE]\nRed 1, LaiGuangYing Road, Chaoyang District, Beijing, China\n(! address might change according to the final participants' number, please confirm upon registration. )\n150-200 RMB (estimation)\n \n\nTo register, please add Sophie FU, one of our alumni ambassadors in Beijing, by scanning the following QR code.  \n\n\n\nPlaces are limited, first come, first served! 
BEGIN:VALARM
ACTION:DISPLAY
TRIGGER:-PT60M
DESCRIPTION:Fast & Furious: Karting in Beijing
END:VALARM
END:VEVENT
END:VCALENDAR