BEGIN:VCALENDAR
VERSION:2.0
X-WR-TIMEZONE:Europe/Paris
PRODID:-//Audencia//NONSGML v1.0//EN
CALSCALE:GREGORIAN
BEGIN:VEVENT
SUMMARY:Webinar: A brighter and more equitable future - inspiring stories from inspiring leaders
DTSTART:20211026T130000
DTEND:20211026T140000
UID:1028
DTSTAMP:20260425T210049
LOCATION:
DESCRIPTION:AMBA webinar "A brighter and more equitable future: inspiring stories from inspiring leaders"\n\nDate: Tuesday 26 October 2021\nTime: 13:00-14:00 Paris time\n\nWhen Giles Lury and Katy Mousinho published their book, Wonder Women: Inspiring Stories and Insightful Interviews with Women in Marketing, they had three objectives:\n \n\n	To create awareness of and celebrate women’s success,\n	To inspire others (both women and men) with stories of and interviews with successful women and to highlight the benefits of more ‘feminine’ aspects of thinking and doing, and\n	To encourage all women to recognise, have confidence in, and grow their talents.\n\nBut the book is not just about women and marketing. The themes, issues and challenges raised have relevance to men as well as women, to leadership and entrepreneurs as well as brands and marketing. If we challenge the status quo, persuade the more traditional leaders to move out of their echo chambers, to embrace diversity rather than see it as a threat, then we can create better (and more profitable) businesses for everyone.\n\nIn this interactive and provocative webinar, Giles and Katy will share some of these amazing stories, highlight and discuss the key themes, issues and challenges, and use your input to determine how we can ensure a bright future for every  in the world of business.  \nAbout our speakers\nKaty Mousinho is enjoying a life of ‘freedom and flexibility’ having forsaken the world of full-time working to pursue multiple activities including writing and helping small businesses with their brand and marketing strategy. Previously Managing Director of The Value Engineers and with 30 years’ experience in insight and brand strategy, she’s gained a broad perspective across categories and countries. What she loves most is seeking inspiration from multiple sources to form insights that drive brand strategy and customer experience.  \n\nGiles Lury is a VW Beetle-driving, Lego watch-wearing, Disney-loving, Chelsea-supporting father of five who also happens to be a director of brand consultancy at The Value Engineers. He has worked in advertising, market research, and, most extensively in brand consultancy. His specialist subjects are brand positioning and innovation. Giles has published three previous books of brand stories; The Prisoner and the Penguin, How Coca-Cola Took Over the World, and Inspiring Innovation.\n \nTo join the webinar\nREGISTER HERE\n \n\nDid you graduate from an AMBA-accredited programme at Audencia?\nThis webinar is accessible to students or alumni of an AMBA-accredited programme at Audencia, i.e., Executive MBA, EuroMBA, Full-Time MBA or Master in Management (Grande Ecole Programme), but registration is required. Registering as an alum of an AMBA-accredited programme takes only a few minutes.\nThis event is free for AMBA members to attend but registration is required using the link above.\n \n
BEGIN:VALARM
ACTION:DISPLAY
TRIGGER:-PT60M
DESCRIPTION:Webinar: A brighter and more equitable future - inspiring stories from inspiring leaders
END:VALARM
END:VEVENT
END:VCALENDAR