BEGIN:VCALENDAR
VERSION:2.0
X-WR-TIMEZONE:Europe/Paris
PRODID:-//Audencia//NONSGML v1.0//EN
CALSCALE:GREGORIAN
BEGIN:VEVENT
SUMMARY:Comment gérer les tensions en entreprise?
DTSTART:20210930T183000
DTEND:20210930T193000
UID:1027
DTSTAMP:20260425T205839
LOCATION:
DESCRIPTION:Vous en avez assez de gérer des tensions dans votre vie professionnelle ?\n\nLes situations de réticences voir de tensions se multiplient en entreprise. Quelques soit les raisons et l’ampleur des tensions, cela nuit au développement économique de l’entreprise, et à la sérénité de chacun.\n\nQuand cet environnement conflictuel prend trop de place dans votre quotidien ou celui de vos collaborateurs, comment réagir ? Comment sortir de ces situations et résoudre efficacement le problème ? Et quels outils sont à votre disposition ?\n\nUne solution possible : la médiation en entreprise.\nEfficace et puissante méthode pour retrouver sérénité, performances et harmonie dans votre entreprise.\n\nJe vous invite à vous joindre à nous pour échanger sur vos réalités quotidiennes.\n\n \nNous commencerons par un échange ou un questionnaire sur le vécu de chacun (selon le nombre de participants).\n\nRendez-vous en ligne le jeudi 30 septembre à 18h30, via le lien suivant : Cliquez ici pour participer à la réunion\n 
BEGIN:VALARM
ACTION:DISPLAY
TRIGGER:-PT60M
DESCRIPTION:Comment gérer les tensions en entreprise?
END:VALARM
END:VEVENT
END:VCALENDAR