BEGIN:VCALENDAR
VERSION:2.0
X-WR-TIMEZONE:Europe/Paris
PRODID:-//Audencia//NONSGML v1.0//EN
CALSCALE:GREGORIAN
BEGIN:VEVENT
SUMMARY:Webinar: GaYme Changers at work: how the LGBT+ community & their allies are changing the global economy
DTSTART:20220125T130000
DTEND:20220125T140000
UID:1026
DTSTAMP:20260425T210205
LOCATION:
DESCRIPTION:AMBA webinar "GaYme Changers at work: how the LGBT+ community and their allies are changing the global economy"\n\nDate: Tuesday 25 January 2022\nTime: 13:00-14:00 Paris time\n\nIn many areas, there have been impressive changes in the acceptance and recognition of LGBT+ individuals. This includes their role and contribution to creativity, dynamics, and success of companies in markets and economies.\nHowever, a closer look at the intersection of economic goals and human rights endeavours reveals a multifaceted picture across the world.\nBased on the findings of his book GaYme Changer: How the LGBT+ community and his allies are changing the global economy, Jens Schadendorf will explain why the economically and morally driven LGBT+ equality movement in workplaces and markets faces a watershed moment: it can win or lose. \n\nIn order to win, the fast-growing LGBT+ ecosystem of states, individuals – including allies – companies, their C-suites, NGOs, and organisations will have to be smart, flexible, and quick to learn. \nIn any case, a new game is afoot – one that is addressing the business and human rights case of LGBT+ equality simultaneously, and one that is more political than ever before. \nIn this interactive webinar, Jens will outline 10 key drivers, trends, and fields of action for companies and related players what should be addressed to be a winner in the respective context and to reach the next level of diversity and inclusion.\nAbout our speaker\nJens Schadendorf is an economist, keynote speaker, and independent LGBT+ researcher at the Technical University of Munich (TUM). He focuses on LGBT+ equality, responsible business, and organizational and social change and has written for leading German media, including FT Deutschland, Zeit, and Spiegel as well as having published several books.\nAn award-winning publishing director for many years, Jens has worked with bestselling authors such as Jack Welch, Bill Clinton, Anita Roddick, Peter Drucker, and Charles Handy. Today his main business is to advise companies, scientists, managers, and medical doctors on book projects globally, published by renowned US, British, German, Japanese, Chinese, and French media houses.\nHe holds a degree in shipping management and a master’s in economic and social sciences from the French-German university of Fribourg, Switzerland, as well as having undertaken postgraduate studies on East Asian economic development and culture in Bangkok and Singapore.\n \nTo join the webinar\nREGISTER HERE\n \n\nDid you graduate from an AMBA-accredited programme at Audencia?\nThis webinar is accessible to students or alumni of an AMBA-accredited programme at Audencia, i.e., Executive MBA, EuroMBA, Full-Time MBA or Master in Management (Grande Ecole Programme), but registration is required. Registering as an alum of an AMBA-accredited programme takes only a few minutes.\nThis event is free for AMBA members to attend but registration is required using the link above.\n \n
BEGIN:VALARM
ACTION:DISPLAY
TRIGGER:-PT60M
DESCRIPTION:Webinar: GaYme Changers at work: how the LGBT+ community & their allies are changing the global economy
END:VALARM
END:VEVENT
END:VCALENDAR