BEGIN:VCALENDAR
VERSION:2.0
X-WR-TIMEZONE:Europe/Paris
PRODID:-//Audencia//NONSGML v1.0//EN
CALSCALE:GREGORIAN
BEGIN:VEVENT
SUMMARY:CCIFC Summer Cocktail
DTSTART:20210712T123000
DTEND:20210712T150000
UID:1025
DTSTAMP:20260425T210205
LOCATION:TotalEnergies Beijing Office, 30F, Tower 3, China Central Place, No.77 Jianguo Rd. Chaoyang District, Beijing, China
DESCRIPTION:Our  partner, CCI FRANCE CHINE, is pleased to invite you to its:\n\nSummer Cocktail\n\n \n\nINTRODUCTION\n\n \n\nAfter months of waiting, CCI FRANCE CHINE invites its members to enjoy a Summer Cocktail with the Sino-French business community of Beijing.\n\nIn the presence of Mr. Christophe Lauras, President of CCI FRANCE CHINE, Mrs. Caroline Penard, General Manager of CCI FRANCE CHINE, and CCI FRANCE CHINE’s Board Members, you will be welcomed in the new offices of TotalEnergies who honor us to be our partner for this evening.\n\nIn order to respect the safety regulations, this event is limited in the number of places. To allow as many members as possible to join, we decided to open the registration up to two persons per company member.\n\n \n\nAGENDA\n\n \n\nDate: Monday, July 12th\n\nTime: 6:30pm - 9:00pm\n\nLanguage: English\n\nPrice: Free, strictly reserved for invited members\n\n 
BEGIN:VALARM
ACTION:DISPLAY
TRIGGER:-PT60M
DESCRIPTION:CCIFC Summer Cocktail
END:VALARM
END:VEVENT
END:VCALENDAR