BEGIN:VCALENDAR
VERSION:2.0
X-WR-TIMEZONE:Europe/Paris
PRODID:-//Audencia//NONSGML v1.0//EN
CALSCALE:GREGORIAN
BEGIN:VEVENT
SUMMARY:88 JOBS DAY 2021 - Le salon de l'emploi Franco-Chinois (6ème édition) 第六届《中法双语人才招聘会》
DTSTART:20210930T100000
DTEND:20210930T170000
UID:1024
DTSTAMP:20260425T223705
LOCATION:Chambre de Commerce et d'Industrie de Paris, 2 Place de la Bourse, 75002 Paris
DESCRIPTION:\n\n\nAudencia vous invite au 88JOBS DAY 2021, le salon des talents franco-chinois, dans la 6ème édition, qui se tiendra le jeudi, 30 septembre 2021, à la Chambre de Commerce et d'Industrie de Paris, à la Bourse de Paris. \n \nDe nombreuses entreprises seront présentes telles que Bank of China, China Unicom, China Mobile, Dahua Technology, Savoye (Noblelift), Business France, etc. Les opportunités d'emploi proposées concerneront principalement les domaines de la logistique, du marketing, du commerce, de la finance, des ressources humaines et du management.\n \nDes opportunités en France, en Chine et en Afrique seront présentées, sous forme de : stage, CDD, CDI, et VIE.\n \nUn atelier participatif sur "How to find an internship or a job in France?" sera présenté par des consultants experts en recrutement de profils bilingues chinois. Cet atelier vous est exclusivement proposé et vous permettra d'échanger sur votre projet professionnel avec des experts.\n\nVous trouvez plus de détails ici sur le site du salon: https://88jobsday.com  La participation est gratuite mais sous inscription. \n \nInscription ici \n/!\ Mentionnez le code "AUDENCIA" dans le formulaire pour avoir accès à l'atelier participatif  /!\
BEGIN:VALARM
ACTION:DISPLAY
TRIGGER:-PT60M
DESCRIPTION:88 JOBS DAY 2021 - Le salon de l'emploi Franco-Chinois (6ème édition) 第六届《中法双语人才招聘会》
END:VALARM
END:VEVENT
END:VCALENDAR